BEGIN:VCALENDAR
VERSION:2.0
PRODID:-//eventon.com NONSGML v1.0//EN
BEGIN:VEVENT
UID:69e88a8d41e77
DTSTAMP:20260422T094501
DTSTART:20250412T131500Z
DTEND:20250412T151500Z
LOCATION:Hôtel Mercure 157 Avenue de la Marne 59700 Marcq-en-Barœul
SUMMARY:Spécial Evasion: Vins du Monde
DESCRIPTION: Séance de dégustation spéciale focalisée sur les Vins du monde : Au travers de la dégustation de 6 vins blancs et rouges\,  vous aurez la possibilité de découvrir les particularités des certains pays producteurs de vin dans le monde. Ce cours d’Œnologie vous permettra de vous initier à la technique[..]
END:VEVENT
END:VCALENDAR