BEGIN:VCALENDAR
VERSION:2.0
PRODID:-//eventon.com NONSGML v1.0//EN
BEGIN:VEVENT
UID:69e4dc6d33c9a
DTSTAMP:20260419T144517
DTSTART:20210522T153000Z
DTEND:20210522T173000Z
LOCATION:Hermitage Gantois 224 Rue Pierre Mauroy\,  59000 Lille
SUMMARY:Dégustation grands Whiskies Tourbés - 220521
DESCRIPTION: Magnifique initiation à la dégustation du whisky tourbé dans l’un des plus beaux endroits de Lille\,  l’hôtel Hermitage Gantois. Très belle opportunité de découvrir l’émotion unique apportée par le mythique PORT ELLEN\,  que vous soyez un dégustateur averti ou dans l’optique d’une découverte. La session commencera par une partie générale sur les[..]
END:VEVENT
END:VCALENDAR