BEGIN:VCALENDAR
VERSION:2.0
PRODID:-//eventon.com NONSGML v1.0//EN
BEGIN:VEVENT
UID:69e5e4f6bc757
DTSTAMP:20260420T093358
DTSTART:20190605T173000Z
DTEND:20190605T193000Z
LOCATION:Ecole Vins en Nord 203 rue Pierre Mauroy
SUMMARY:Initiation à l’Art de la Dégustation du Vin - 050619
DESCRIPTION: Initiez vous à la dégustation du vin avec l’école Vins en Nord à Lille. Attention : session limitée à 15 participants !  Pendant 2h00\,  vous découvrirez toutes les étapes d’une dégustation professionnelle de vin : aspects visuel\,  gustatif et olfactif\,  identification des saveurs et des arômes. 6 vins vous seront présentés et[..]
END:VEVENT
END:VCALENDAR