BEGIN:VCALENDAR
VERSION:2.0
PRODID:-//eventon.com NONSGML v1.0//EN
BEGIN:VEVENT
UID:69e9cdfc8c991
DTSTAMP:20260423T084500
DTSTART:20190629T153000Z
DTEND:20190629T173000Z
LOCATION:Hermitage Gantois 224 Rue Pierre Mauroy\,  59000 Lille
SUMMARY:Dégustation Bières Trappistes Belges - 290619
DESCRIPTION: Initiez-vous à la dégustation des bières les plus prestigieuses\,  les Bières Trappistes  à Lille\,  dans un cadre majestueux ! Session spéciale les 6 bières Trappistes belges\,  incluant la rare et recherchée WestVleteren\,  bière considérée comme la meilleure au monde ! Pendant 2h00\,  vous découvrirez l’histoire et la fabrication de la bière\,  mais aussi[..]
END:VEVENT
END:VCALENDAR